BEGIN:VCALENDAR
VERSION:2.0
PRODID:-//TCC Canada - ECPv6.15.17.1//NONSGML v1.0//EN
CALSCALE:GREGORIAN
METHOD:PUBLISH
X-WR-CALNAME:TCC Canada
X-ORIGINAL-URL:https://www.tcccanada.com
X-WR-CALDESC:Events for TCC Canada
REFRESH-INTERVAL;VALUE=DURATION:PT1H
X-Robots-Tag:noindex
X-PUBLISHED-TTL:PT1H
BEGIN:VTIMEZONE
TZID:America/Toronto
BEGIN:DAYLIGHT
TZOFFSETFROM:-0500
TZOFFSETTO:-0400
TZNAME:EDT
DTSTART:20230312T070000
END:DAYLIGHT
BEGIN:STANDARD
TZOFFSETFROM:-0400
TZOFFSETTO:-0500
TZNAME:EST
DTSTART:20231105T060000
END:STANDARD
BEGIN:DAYLIGHT
TZOFFSETFROM:-0500
TZOFFSETTO:-0400
TZNAME:EDT
DTSTART:20240310T070000
END:DAYLIGHT
BEGIN:STANDARD
TZOFFSETFROM:-0400
TZOFFSETTO:-0500
TZNAME:EST
DTSTART:20241103T060000
END:STANDARD
BEGIN:DAYLIGHT
TZOFFSETFROM:-0500
TZOFFSETTO:-0400
TZNAME:EDT
DTSTART:20250309T070000
END:DAYLIGHT
BEGIN:STANDARD
TZOFFSETFROM:-0400
TZOFFSETTO:-0500
TZNAME:EST
DTSTART:20251102T060000
END:STANDARD
END:VTIMEZONE
BEGIN:VEVENT
DTSTART;TZID=America/Toronto:20241107T073000
DTEND;TZID=America/Toronto:20241109T153000
DTSTAMP:20260425T165059
CREATED:20241031T151552Z
LAST-MODIFIED:20250409T085313Z
UID:1380-1730964600-1731166200@www.tcccanada.com
SUMMARY:PMEvolve 2024 - Hosted by Project Management Institute (PMI) Ottawa Valley Outaouais
DESCRIPTION:✨ PMEvolve 2024 ✨ \nRevolutionizing Project Management \n  \nDisrupt\, Empower\, and Thrive! \nDive into the future of project management from November 7th to 9th at the illustrious Ottawa Marriott Hotel\, Ottawa. Proudly presented by the Project Management Institute (PMI) Ottawa Valley Outaouais Chapter\, this event is the pinnacle for project management professionals and enthusiasts across the National Capital Region\, Eastern Ontario and Western Quebec. \n  \n🚀 Why Attend? \nExpert-led Sessions: Immerse yourself in a spectrum of enlightening sessions\, from groundbreaking strategies to hands-on tips\, all curated by industry leaders. \nRevolutionize Your Approach: Challenge traditional project management norms. Embrace the disruptions and innovations that are reshaping our industry’s core beliefs. \nNetworking Opportunities: Broaden your horizons by mingling with peers\, forging impactful collaborations\, and exchanging visionary ideas with fellow professionals. \n  \n🔥 Be Part of the Evolution 🔥 \nTransition from traditions to transformations. Redefine the very essence of project management and set sail towards a promising future. \n  \n📌 Secure Your Spot!  \nElevate your professional journey. Register now for PMEvolve 2024 and be at the forefront of the project management renaissance. See you this November! 🎉 \n  \nLearn more about PMI Ottawa Valley Outaouais Chapter and other upcoming events: \nPMI Ottawa Valley Outaouais Chapter  \nPM Dinner and Awards Gala \nSponsorship/Partnership Opportunities 
URL:https://www.tcccanada.com/event/pmevolve-2024-hosted-by-project-management-institute-pmi-ottawa-valley-outaouais/
LOCATION:Ontario
ATTACH;FMTTYPE=image/png:https://www.tcccanada.com/wp-content/uploads/2024/09/Image-23.png
END:VEVENT
END:VCALENDAR