BEGIN:VCALENDAR
VERSION:2.0
PRODID:-//TCC Canada - ECPv6.15.17.1//NONSGML v1.0//EN
CALSCALE:GREGORIAN
METHOD:PUBLISH
X-WR-CALNAME:TCC Canada
X-ORIGINAL-URL:https://www.tcccanada.com
X-WR-CALDESC:Events for TCC Canada
REFRESH-INTERVAL;VALUE=DURATION:PT1H
X-Robots-Tag:noindex
X-PUBLISHED-TTL:PT1H
BEGIN:VTIMEZONE
TZID:America/Toronto
BEGIN:DAYLIGHT
TZOFFSETFROM:-0500
TZOFFSETTO:-0400
TZNAME:EDT
DTSTART:20230312T070000
END:DAYLIGHT
BEGIN:STANDARD
TZOFFSETFROM:-0400
TZOFFSETTO:-0500
TZNAME:EST
DTSTART:20231105T060000
END:STANDARD
BEGIN:DAYLIGHT
TZOFFSETFROM:-0500
TZOFFSETTO:-0400
TZNAME:EDT
DTSTART:20240310T070000
END:DAYLIGHT
BEGIN:STANDARD
TZOFFSETFROM:-0400
TZOFFSETTO:-0500
TZNAME:EST
DTSTART:20241103T060000
END:STANDARD
BEGIN:DAYLIGHT
TZOFFSETFROM:-0500
TZOFFSETTO:-0400
TZNAME:EDT
DTSTART:20250309T070000
END:DAYLIGHT
BEGIN:STANDARD
TZOFFSETFROM:-0400
TZOFFSETTO:-0500
TZNAME:EST
DTSTART:20251102T060000
END:STANDARD
END:VTIMEZONE
BEGIN:VEVENT
DTSTART;TZID=America/Toronto:20241003T120000
DTEND;TZID=America/Toronto:20241003T130000
DTSTAMP:20260425T152223
CREATED:20240926T164930Z
LAST-MODIFIED:20250409T085931Z
UID:1358-1727956800-1727960400@www.tcccanada.com
SUMMARY:TCC Networking 2024 Presents: Mi Casa Canada
DESCRIPTION:Our networking events are designed to provide our community members with the opportunity to gather over lunch\, network and learn from industry experts on a variety of topics. The sessions will cover entrepreneurship\, productivity\, leadership\, marketing\, AI technology\, and more topics. \nWhen: Thursday\, October 3rd\, 2024\, at 12 p.m. \nWhere: TCC Collaboration Centre | 150 Elgin Street\, Learning Loft (9th Floor)\, Ottawa\, ON\, Canada (check-in will be at the 8th floor reception) \n*To RSVP: Please RSVP at events@tcccanada.com by October 2nd\, 2024 \n*On your RSVP response\, please state if you are more interested in Family Class\, Economic class as Express Entry\, or Work Permits. Immigration is an extensive topic\, so your reply will help our speaker to better tailor the session based on the number of replies! \nSpeaker: Franklin Rodriguez – Regulated Canadian Immigration Consultant (RCIC) \nMi Casa Canada Immigration Services is a trusted advocate for clients navigating the complexities of Canadian immigration. They specialize in economic and family immigration to Canada and provide tailored solutions for small and medium businesses\, individuals\, and families seeking to make Canada their home. \nVisit their website\, www.micasacanada.com\, to learn more about their services! \nTopic of Discussion: Navigating Canadian Immigration in 2024
URL:https://www.tcccanada.com/event/tcc-networking-2024-presents-mi-casa-canada/
LOCATION:TCC Canada – The Collaboration Centre\, 800-150 Elgin Street\, Ottawa\, ON\, K2P1L4\, Canada
ATTACH;FMTTYPE=image/png:https://www.tcccanada.com/wp-content/uploads/2024/09/4.png
END:VEVENT
BEGIN:VEVENT
DTSTART;TZID=America/Toronto:20241004T190000
DTEND;TZID=America/Toronto:20241006T235900
DTSTAMP:20260425T152223
CREATED:20240930T162654Z
LAST-MODIFIED:20250409T085838Z
UID:1388-1728068400-1728259140@www.tcccanada.com
SUMMARY:Space Apps Ottawa 2024
DESCRIPTION:NASA International Space Apps Hackathon 2024 will be another intense 48-hour global weekend hackathon for developers\, designers\, engineers\, entrepreneurs\, astronomers and enthusiasts. Along with over 200 cities around the world\, Ottawa teams will form and build products and prototypes against NASA- and CSA-designed challenges that leverage spacecraft\, celestial & science data. \nThis year marks 8 years of NASA Space Apps hackathon-ing in Ottawa\, and we return to Carleton University! This year you can attend physically at the Technology Innovation Management Program facilities located at 5063 Nicol Building on campus. We’ll also allow virtual participation as you prefer. \nFor more information about our Ottawa event visit our website\, or learn more on the global event website. \n\nAgenda\n\n\n\n\n\nFRIDAY – Kickoff/Welcome/Help Getting Started \n7:00 PM – 11:59 PM \n\n\n\n\nSATURDAY – Hacking \n12:00 AM – 11:59 PM \n\n\n\n\nSUNDAY – Hacking \n12:00 AM – 11:59 PM \n\n\n\n\nSUNDAY – (Optional) Presentation Feedback \n2:00 PM – 3:00 PM \n\n\n\n\nSUNDAY – Submit your project online\, anytime before MIDNIGHT EST \n11:30 PM – 11:59 PM
URL:https://www.tcccanada.com/event/space-apps-ottawa-2024/
LOCATION:Carleton University – Sprott School of Business\, Nicol Building\, Ottawa\, ON\, K1S 5B6\, Canada
ATTACH;FMTTYPE=image/jpeg:https://www.tcccanada.com/wp-content/uploads/2024/09/https___cdn.evbuc_.com_images_561934009_197016511881_1_original.jpeg
END:VEVENT
BEGIN:VEVENT
DTSTART;TZID=America/Toronto:20241017T113000
DTEND;TZID=America/Toronto:20241017T180000
DTSTAMP:20260425T152223
CREATED:20240930T161625Z
LAST-MODIFIED:20250409T085741Z
UID:1384-1729164600-1729188000@www.tcccanada.com
SUMMARY:Best Places to Work 2024: Free Career and Training Expo
DESCRIPTION:Calling all recent graduates\, mid-career professionals and lifelong learners! Join us at the Best Places to Work Career and Training Expo to plan your next career move. \nConnect with dozens of the region’s best employers who are actively seeking talented individuals like you. \nExplore new job opportunities or find the perfect training program to enhance your skill set. \nDiscover the resources and support you need to succeed in today’s competitive job market. \nDon’t miss this unique opportunity to: \n\nNetwork with industry leaders and potential mentors.\nLearn about the latest hiring trends and job openings.\nGain insights into upskilling and career advancement.\nParticipate in informative workshops and seminars.\n\nMark your calendars and join us at the Best Places to Work Career and Training Expo! \nRegister now and open doors to a brighter future!
URL:https://www.tcccanada.com/event/best-places-to-work-2024-free-career-and-training-expo/
LOCATION:Shaw Centre\, 55 Colonel By Drive\, Ottawa\, ON\, K1N 9J2\, Canada
ATTACH;FMTTYPE=image/jpeg:https://www.tcccanada.com/wp-content/uploads/2024/09/https___cdn.evbuc_.com_images_837037519_24747154903_1_original.jpeg
END:VEVENT
BEGIN:VEVENT
DTSTART;TZID=America/Toronto:20241017T170000
DTEND;TZID=America/Toronto:20241017T193000
DTSTAMP:20260425T152223
CREATED:20240930T163522Z
LAST-MODIFIED:20250409T085621Z
UID:1393-1729184400-1729193400@www.tcccanada.com
SUMMARY:Driving Change in Women’s Health: Innovation and Research
DESCRIPTION:Come Together! \nJoin esteemed medical and tech leaders making a positive change in women’s health research and innovation. \nIn partnership with The Ottawa Hospital Foundation and Invest Ottawa\, join us for an impactful evening where medical and health tech leaders will share actionable insight into the advances of women’s health research\, innovation and updates on The Ottawa Hospital’s new campus. \nOur event speakers are leading powerful initiatives in medical research and innovation\, as well as companies and investments that are making a difference in advancing women’s health research\, turning vision into action and impact locally\, nationally and globally. \nJoin us on Thursday October 17th from 5:00 PM – 7:30 PM at Bayview Yards (Ottawa’s Innovation Hub) for networking\, light refreshments\, and panel discussions highlighting the progress being made in this critical field. \nClick here for more event details!
URL:https://www.tcccanada.com/event/driving-change-in-womens-health-innovation-and-research/
LOCATION:Bayview Yards\, 7 Bayview Station Road\, Ottawa\, ON\, K1Y 2C5\, Canada
ATTACH;FMTTYPE=image/jpeg:https://www.tcccanada.com/wp-content/uploads/2024/09/https___cdn.evbuc_.com_images_836136889_20414429654_1_original.jpeg
END:VEVENT
BEGIN:VEVENT
DTSTART;TZID=America/Toronto:20241030T083000
DTEND;TZID=America/Toronto:20241030T160000
DTSTAMP:20260425T152223
CREATED:20241001T152423Z
LAST-MODIFIED:20250409T085538Z
UID:1399-1730277000-1730304000@www.tcccanada.com
SUMMARY:Small Business Forum 2024
DESCRIPTION:Experience the Small Business Forum 2024: Taste of Success: Navigating the World of Food Business\, the City of Toronto’s free full-day signature in-person event to support small businesses in Toronto. This year’s Small Business Forum 2024 will focus on supports for small businesses in the food business and will feature : \n\nmain stage programming with keynote speakers and expert panels\,\nan exciting pitch competition for food business owners and entrepreneurs\,\nspeed mentorship sessions where food business experts and experienced food entrepreneurs share their wisdom and answer your burning questions\, and\na trade show hosting a diverse display of small business services and goods providers.\n\nA more in-depth agenda and program guide is in development and will be shared soon at www.toronto.ca/BusinessForum
URL:https://www.tcccanada.com/event/small-business-forum-2024/
LOCATION:Meridian Hall\, 1 Front Street East\, Toronto\, ON\, M5E 1B2\, Canada
ATTACH;FMTTYPE=image/jpeg:https://www.tcccanada.com/wp-content/uploads/2024/10/https___cdn.evbuc_.com_images_831528679_1083577354273_1_original.jpeg
END:VEVENT
BEGIN:VEVENT
DTSTART;TZID=America/Toronto:20241030T100000
DTEND;TZID=America/Toronto:20241030T160000
DTSTAMP:20260425T152223
CREATED:20241001T152354Z
LAST-MODIFIED:20250409T085455Z
UID:1403-1730282400-1730304000@www.tcccanada.com
SUMMARY:Rapid Gen AI Activation for Marketing and Sales
DESCRIPTION:The era of Generative AI is upon us\, but we’re beyond the stage where simply handing out ChatGPT accounts suffices as a strategy. The real game-changer lies in how you integrate Gen AI into your marketing and sales processes to achieve hyper-personalization\, intelligent automation\, and scalable solutions. For CMOs and CSOs\, the question is no longer “should we adopt AI?” but “how can we leverage AI to its fullest potential?” \nThis event is tailored to answer that very question\, providing you with a roadmap to move from exploration to execution. We will dive deep into how Gen AI can transform your organization by: \n\nHyper-Personalization at Scale: Explore how AI-driven insights can create individualized customer experiences across every touchpoint\, enhancing engagement and driving conversions like never before.\nIntelligent Automation: Learn how to streamline and automate complex processes—ranging from lead generation to customer retention—freeing your teams to focus on high-impact growth initiatives.\nScalable Solutions: Understand how to deploy Gen AI across your entire organization\, turning vast amounts of data into actionable insights that fuel both marketing and sales success.\n\nAccelerate Time to Value \nIn addition to strategic insights\, this event will arm you with actionable tactics to accelerate your time to activation and realize ROI with Gen AI within weeks. We’ll share proven methods to fast-track AI deployment\, ensuring that your organization can quickly begin reaping the benefits of AI-driven decision making and automation. From quick wins to long-term gains\, you’ll walk away with a clear understanding of how to achieve and measure success with Gen AI. \nBy attending\, you’ll gain not just knowledge\, but also practical strategies that you can implement immediately to drive tangible results. This is your opportunity to lead your organization into the future with AI that not only enhances but revolutionizes your marketing and sales efforts. \nAbout TCC Canada:\nFor over 30 years\, TCC Canada has been a trusted partner for businesses\, providing tailored workspace solutions that foster growth and innovation. As we move into 2024\, TCC Canada is proud to announce the launch of our new AI as a Service (AIaaS) offerings. This initiative is designed to empower organizations of all sizes to harness the transformative power of AI\, driving efficiency and innovation across their operations. With our deep expertise and commitment to client success\, TCC Canada is positioned to lead the charge in integrating AI into the fabric of modern business. \nSpeakers:\nSean Cochrane\, CEO @TCC Canada\nLubabah Bakht\, Global Digital Media Trading Manager @Reckitt\nGlenn Schmelzle\, Go-To-Market Ecosystem Lead @CHEO Research Institute and Professor\, Marketing and Analytics @Lambton College\nParth Shah\, Application Development Consultant @CIBC\nJustin Hacker\, CTO @TCC Canada\, CEO @Uncanny Labs\, Co-founder @Karmaflow.ai\nFuad Miah\, CAIO @TCC Canada\, CMO @Uncanny Labs\, Co-founder @Karmaflow.ai\nRomain Coquin\, Director of Sales and Operations @TCC Canada \nAdditional Information:\nSeats are limited. Breakfast\, lunch and beverages are included. \nParking: Paid parking is available in the building and nearby surrounding areas for your convenience. \nTicket Policy: Tickets are non-refundable but can be transferred to another person upon request. \nDiscounts: Active TCC Canada customers receive a discount. Contact your community manager for discount codes. \nTicket Cost: $500 CAD per attendee. \nClick here for more information and to register!
URL:https://www.tcccanada.com/event/rapid-gen-ai-activation-for-marketing-and-sales/
LOCATION:TCC Canada – The Collaboration Centre\, 800-150 Elgin Street\, Ottawa\, ON\, K2P1L4\, Canada
ATTACH;FMTTYPE=image/jpeg:https://www.tcccanada.com/wp-content/uploads/2024/10/https___cdn.evbuc_.com_images_838612059_198503974742_1_original.jpeg
END:VEVENT
END:VCALENDAR